BEGIN:VCALENDAR
VERSION:2.0
PRODID:-//PRIDEChicago - ECPv6.15.17.1//NONSGML v1.0//EN
CALSCALE:GREGORIAN
METHOD:PUBLISH
X-ORIGINAL-URL:https://pridechicago.org
X-WR-CALDESC:Events for PRIDEChicago
REFRESH-INTERVAL;VALUE=DURATION:PT1H
X-Robots-Tag:noindex
X-PUBLISHED-TTL:PT1H
BEGIN:VTIMEZONE
TZID:America/Chicago
BEGIN:DAYLIGHT
TZOFFSETFROM:-0600
TZOFFSETTO:-0500
TZNAME:CDT
DTSTART:20240310T080000
END:DAYLIGHT
BEGIN:STANDARD
TZOFFSETFROM:-0500
TZOFFSETTO:-0600
TZNAME:CST
DTSTART:20241103T070000
END:STANDARD
BEGIN:DAYLIGHT
TZOFFSETFROM:-0600
TZOFFSETTO:-0500
TZNAME:CDT
DTSTART:20250309T080000
END:DAYLIGHT
BEGIN:STANDARD
TZOFFSETFROM:-0500
TZOFFSETTO:-0600
TZNAME:CST
DTSTART:20251102T070000
END:STANDARD
BEGIN:DAYLIGHT
TZOFFSETFROM:-0600
TZOFFSETTO:-0500
TZNAME:CDT
DTSTART:20260308T080000
END:DAYLIGHT
BEGIN:STANDARD
TZOFFSETFROM:-0500
TZOFFSETTO:-0600
TZNAME:CST
DTSTART:20261101T070000
END:STANDARD
END:VTIMEZONE
BEGIN:VEVENT
DTSTART;TZID=America/Chicago:20250618T183000
DTEND;TZID=America/Chicago:20250618T213000
DTSTAMP:20260420T074523
CREATED:20250530T183117Z
LAST-MODIFIED:20250530T183117Z
UID:10000092-1750271400-1750282200@pridechicago.org
SUMMARY:Pride at the Park: White Sox vs. Cardinals
DESCRIPTION:Join the Chicago White Sox in celebrating Pride at the Park on Wednesday\, June 18\, an evening dedicated to uplifting and supporting the LGBTQ+ community. Included with each special ticket purchased is a Pride Night White Sox Hat. Experience a night full of love\, diversity\, and unity in a vibrant atmosphere that welcomes all. \nWhite Sox vs. Cardinals
URL:https://pridechicago.org/event/pride-at-the-park-white-sox-vs-cardinals/
LOCATION:Rate Field\, 333 W 35th St\, Chicago\, IL\, 60616
CATEGORIES:Community,Pride Month
ATTACH;FMTTYPE=image/png:https://pridechicago.org/wp-content/uploads/2025/05/1080x1080_Social_CWS_PrideAtThePark-1.png
END:VEVENT
END:VCALENDAR