BEGIN:VCALENDAR
VERSION:2.0
PRODID:-//PRIDEChicago - ECPv6.15.17.1//NONSGML v1.0//EN
CALSCALE:GREGORIAN
METHOD:PUBLISH
X-ORIGINAL-URL:https://pridechicago.org
X-WR-CALDESC:Events for PRIDEChicago
REFRESH-INTERVAL;VALUE=DURATION:PT1H
X-Robots-Tag:noindex
X-PUBLISHED-TTL:PT1H
BEGIN:VTIMEZONE
TZID:America/Chicago
BEGIN:DAYLIGHT
TZOFFSETFROM:-0600
TZOFFSETTO:-0500
TZNAME:CDT
DTSTART:20230312T080000
END:DAYLIGHT
BEGIN:STANDARD
TZOFFSETFROM:-0500
TZOFFSETTO:-0600
TZNAME:CST
DTSTART:20231105T070000
END:STANDARD
BEGIN:DAYLIGHT
TZOFFSETFROM:-0600
TZOFFSETTO:-0500
TZNAME:CDT
DTSTART:20240310T080000
END:DAYLIGHT
BEGIN:STANDARD
TZOFFSETFROM:-0500
TZOFFSETTO:-0600
TZNAME:CST
DTSTART:20241103T070000
END:STANDARD
BEGIN:DAYLIGHT
TZOFFSETFROM:-0600
TZOFFSETTO:-0500
TZNAME:CDT
DTSTART:20250309T080000
END:DAYLIGHT
BEGIN:STANDARD
TZOFFSETFROM:-0500
TZOFFSETTO:-0600
TZNAME:CST
DTSTART:20251102T070000
END:STANDARD
END:VTIMEZONE
BEGIN:VEVENT
DTSTART;TZID=America/Chicago:20240602T100000
DTEND;TZID=America/Chicago:20240602T130000
DTSTAMP:20260422T052507
CREATED:20240512T233606Z
LAST-MODIFIED:20240512T234242Z
UID:10000029-1717322400-1717333200@pridechicago.org
SUMMARY:Queer Fam Pride Jam
DESCRIPTION:The Queer Fam Pride Jam is making a joyful return after its history-making event in 2024\, this year opening the Chicago House Music Festival in the iconic Millennium Park for house music’s 40th anniversary celebration. Produced by legendary queer dance party Slo ‘Mo & South Loop children’s boutique Kido\, the Pride Jam celebrates  LGBTQ+ families\, kids and allies with all-ages activities like dance lessons\, DJ sets\, performances and more in the North Pavilion tent from 10am-1pm. Pride Jam is excited to share the day with the Chicago House Music Festival\, which will begin at 1 p. For more details about House Music Festival\, visit ChicagoHouseMusicFestival.us. This event is free and available to all.
URL:https://pridechicago.org/event/queer-fam-pride-jam/
LOCATION:Millennium Park\, Chicago\, Illinois\, 60602
CATEGORIES:Community,Pride Month
ATTACH;FMTTYPE=image/jpeg:https://pridechicago.org/wp-content/uploads/2024/05/event-pride-jam.jpg
END:VEVENT
END:VCALENDAR